BEGIN:VCALENDAR
VERSION:2.0
PRODID:-//Regina Riot Football | Regina’s Elite Women’s Tackle Football Team - ECPv6.15.20//NONSGML v1.0//EN
CALSCALE:GREGORIAN
METHOD:PUBLISH
X-WR-CALNAME:Regina Riot Football | Regina’s Elite Women’s Tackle Football Team
X-ORIGINAL-URL:https://reginariotfootball.com
X-WR-CALDESC:Events for Regina Riot Football | Regina’s Elite Women’s Tackle Football Team
REFRESH-INTERVAL;VALUE=DURATION:PT1H
X-Robots-Tag:noindex
X-PUBLISHED-TTL:PT1H
BEGIN:VTIMEZONE
TZID:UTC
BEGIN:STANDARD
TZOFFSETFROM:+0000
TZOFFSETTO:+0000
TZNAME:UTC
DTSTART:20240101T000000
END:STANDARD
END:VTIMEZONE
BEGIN:VEVENT
DTSTART;TZID=UTC:20250601T130000
DTEND;TZID=UTC:20250601T170000
DTSTAMP:20260424T161911
CREATED:20250414T191239Z
LAST-MODIFIED:20250414T191239Z
UID:4402-1748782800-1748797200@reginariotfootball.com
SUMMARY:Saskatoon Valkyries at Regina Riot
DESCRIPTION:
URL:https://reginariotfootball.com/event/saskatoon-valkyries-at-regina-riot/
LOCATION:Leibel Field
END:VEVENT
BEGIN:VEVENT
DTSTART;TZID=UTC:20250518T130000
DTEND;TZID=UTC:20250518T170000
DTSTAMP:20260424T161911
CREATED:20250414T191137Z
LAST-MODIFIED:20250414T191137Z
UID:4399-1747573200-1747587600@reginariotfootball.com
SUMMARY:Manitoba Fearless at Regina Riot
DESCRIPTION:
URL:https://reginariotfootball.com/event/manitoba-fearless-at-regina-riot/
LOCATION:Leibel Field
END:VEVENT
BEGIN:VEVENT
DTSTART;TZID=UTC:20250510T193000
DTEND;TZID=UTC:20250510T220000
DTSTAMP:20260424T161911
CREATED:20250414T191032Z
LAST-MODIFIED:20250414T191032Z
UID:4396-1746905400-1746914400@reginariotfootball.com
SUMMARY:Regina Riot at Saskatoon Valkyries
DESCRIPTION:
URL:https://reginariotfootball.com/event/regina-riot-at-saskatoon-valkyries/
LOCATION:SMF Field (Saskatoon)
END:VEVENT
BEGIN:VEVENT
DTSTART;TZID=UTC:20250504T130000
DTEND;TZID=UTC:20250504T160000
DTSTAMP:20260424T161911
CREATED:20250414T190844Z
LAST-MODIFIED:20250414T190844Z
UID:4392-1746363600-1746374400@reginariotfootball.com
SUMMARY:Regina Riot at Manitoba Fearless
DESCRIPTION:
URL:https://reginariotfootball.com/event/regina-riot-at-manitoba-fearless/
LOCATION:St. Vital Mustangs Field\, Winnipeg
END:VEVENT
BEGIN:VEVENT
DTSTART;TZID=UTC:20250426T160000
DTEND;TZID=UTC:20250426T180000
DTSTAMP:20260424T161911
CREATED:20250414T190536Z
LAST-MODIFIED:20250414T201348Z
UID:4389-1745683200-1745690400@reginariotfootball.com
SUMMARY:Red/Black Riot Inter-Squad Game
DESCRIPTION:
URL:https://reginariotfootball.com/event/red-black-riot-inter-squad-game/
LOCATION:Leibel Field
END:VEVENT
END:VCALENDAR